BEGIN:VCALENDAR
VERSION:2.0
PRODID:-//Tukios.com/
BEGIN:VEVENT
UID:262f10bf-7960-4cb1-8ad1-25e927246d3b@www.morrisonfuneralhome.com
DTSTAMP:20260423T100728Z
DTSTART:20260424T220000Z
DTEND:20260425T000000Z
SUMMARY:Visitation
DESCRIPTION:
URL:https://www.morrisonfuneralhome.com/obituaries/anita-cutburth
LOCATION: 700 Oak Street  Graham TX 76450
GEO:33.1044052;-98.5916341
END:VEVENT
END:VCALENDAR