BEGIN:VCALENDAR
VERSION:2.0
PRODID:-//Tukios.com/
BEGIN:VEVENT
UID:3debe4b5-6ace-471b-8630-57854951b323@www.morrisonfuneralhome.com
DTSTAMP:20260423T101026Z
DTSTART:20260425T150000Z
DTEND:20260425T160000Z
SUMMARY:Funeral Service
DESCRIPTION:
URL:https://www.morrisonfuneralhome.com/obituaries/anita-cutburth
LOCATION:Faith Center Assembly of God 1601 Hwy 380 Bypass  Graham TX 
	76450
GEO:33.102023;-98.580687
END:VEVENT
END:VCALENDAR