BEGIN:VCALENDAR
VERSION:2.0
PRODID:-//Tukios.com/
BEGIN:VEVENT
UID:edc7838e-34bd-4c00-922f-d2de2c720228@www.morrisonfuneralhome.com
DTSTAMP:20260420T210857Z
DTSTART:20260423T160000Z
DTEND:20260423T170000Z
SUMMARY:Celebration of Life
DESCRIPTION:
URL:https://www.morrisonfuneralhome.com/obituaries/billy-wood
LOCATION:First United Methodist Church 700 3rd St  Graham TX 76450
GEO:33.1054583;-98.5871261
END:VEVENT
END:VCALENDAR