BEGIN:VCALENDAR
VERSION:2.0
PRODID:-//Tukios.com/
BEGIN:VEVENT
UID:1a005d62-ae8f-457a-b668-ec7bdcf13dc7@www.morrisonfuneralhome.com
DTSTAMP:20260423T091710Z
DTSTART:20260423T160000Z
DTEND:20260423T170000Z
SUMMARY:Funeral Service
DESCRIPTION:
URL:https://www.morrisonfuneralhome.com/obituaries/kent-goree
LOCATION:Morrison Funeral Home Chapel 700 Oak St  Graham TX 76450
GEO:33.1044052;-98.5916341
END:VEVENT
END:VCALENDAR